BEGIN:VCALENDAR
VERSION:2.0
PRODID:-//Stadtkino Rheinfelden - ECPv6.2.2.1//NONSGML v1.0//EN
CALSCALE:GREGORIAN
METHOD:PUBLISH
X-ORIGINAL-URL:https://stadtkino-rheinfelden.de
X-WR-CALDESC:Veranstaltungen für Stadtkino Rheinfelden
REFRESH-INTERVAL;VALUE=DURATION:PT1H
X-Robots-Tag:noindex
X-PUBLISHED-TTL:PT1H
BEGIN:VTIMEZONE
TZID:UTC
BEGIN:STANDARD
TZOFFSETFROM:+0000
TZOFFSETTO:+0000
TZNAME:UTC
DTSTART:20220101T000000
END:STANDARD
END:VTIMEZONE
BEGIN:VEVENT
DTSTART;TZID=UTC:20220307T193000
DTEND;TZID=UTC:20220307T193000
DTSTAMP:20260420T132457
CREATED:20211029T122035Z
LAST-MODIFIED:20211029T122035Z
UID:570-1646681400-1646681400@stadtkino-rheinfelden.de
SUMMARY:Film des Monats März
DESCRIPTION:Hidden Figures (Unerkannte Heldinnen) (USA 2016\, 122min\, FSK 0) \nDer bewegende Film erzählt die unbekannte Geschichte der Mathematikerinnen Katherine Johnson\, Dorothy Vaughn und Mary Jackson\, die in den 1960er Jahren maßgeblich am Erfolg der USA im Wettrennen gegen Russland um die Herrschaft im All beteiligt waren. Als schwarze Frauen aber waren sie unzähligen Diskriminierungen ausgesetzt. Filmvorführung am Vorabend des Internationalen Frauentages am 8. März. \nOrt: Rheinfelden\, Pfarreizentrum St. Josef\, Friedrichstr. 32 \nAnmeldung entsprechend der geltenden Hygieneverordnung erforderlich über Pfarrbüro St. Josef: 07623-72490: pfarrbuero.rheinfelden@kath.rheinfelden.de \nAktuelle Infos dazu auf https://www.kath-rheinfelden.de/glaube-leben/erwachsenenbildung/ \nEintritt frei &#8211; Spenden willkommen
URL:https://stadtkino-rheinfelden.de/event/film-des-monats-maerz/
LOCATION:St. Josef Gemeinde\, Deutschland
CATEGORIES:Film des Monats
END:VEVENT
END:VCALENDAR