BEGIN:VCALENDAR
VERSION:2.0
PRODID:-//Stadtkino Rheinfelden - ECPv6.2.2.1//NONSGML v1.0//EN
CALSCALE:GREGORIAN
METHOD:PUBLISH
X-ORIGINAL-URL:https://stadtkino-rheinfelden.de
X-WR-CALDESC:Veranstaltungen fÃ¼r Stadtkino Rheinfelden
REFRESH-INTERVAL;VALUE=DURATION:PT1H
X-Robots-Tag:noindex
X-PUBLISHED-TTL:PT1H
BEGIN:VTIMEZONE
TZID:UTC
BEGIN:STANDARD
TZOFFSETFROM:+0000
TZOFFSETTO:+0000
TZNAME:UTC
DTSTART:20220101T000000
END:STANDARD
END:VTIMEZONE
BEGIN:VEVENT
DTSTART;TZID=UTC:20220110T193000
DTEND;TZID=UTC:20220110T193000
DTSTAMP:20260420T182836
CREATED:20211029T120808Z
LAST-MODIFIED:20211029T121622Z
UID:557-1641843000-1641843000@stadtkino-rheinfelden.de
SUMMARY:Film des Monats Januar
DESCRIPTION:Wer aufgibt ist tot (D 2016\, 89min) \nAls Paul Lohmann einen Autounfall erleidet\, ist er dem Tode nahe. Doch noch lebt er in einer Zwischenwelt zwischen Himmel und Erde und durchlebt den Tag vor seinem Tod immer neu\, um manches anders oder besser zu machen. &#8230; Der Tod kann ausgesprochen unterhaltsam sein.\nUnd heiter. AnrÃ¼hrend sowieso. Jedenfalls fÃ¼r die Zuschauer dieser faszinierenden TragikomÃ¶die. \nOrt: Rheinfelden\, Pfarreizentrum St. Josef\, Friedrichstr. 32 \nAnmeldung entsprechend der geltenden Hygieneverordnung erforderlich Ã¼ber PfarrbÃ¼ro St. Josef: 07623-72490: pfarrbuero.rheinfelden@kath.rheinfelden.de \nAktuelle Infos dazu auf https://www.kath-rheinfelden.de/glaube-leben/erwachsenenbildung/ \nEintritt frei &#8211; Spenden willkommen \n 
URL:https://stadtkino-rheinfelden.de/event/film-des-monats-januar/
LOCATION:St. Josef Gemeinde\, Deutschland
CATEGORIES:Film des Monats
END:VEVENT
END:VCALENDAR