BEGIN:VCALENDAR
VERSION:2.0
PRODID:-//Stadtkino Rheinfelden - ECPv6.2.2.1//NONSGML v1.0//EN
CALSCALE:GREGORIAN
METHOD:PUBLISH
X-WR-CALNAME:Stadtkino Rheinfelden
X-ORIGINAL-URL:https://stadtkino-rheinfelden.de
X-WR-CALDESC:Veranstaltungen fÃ¼r Stadtkino Rheinfelden
REFRESH-INTERVAL;VALUE=DURATION:PT1H
X-Robots-Tag:noindex
X-PUBLISHED-TTL:PT1H
BEGIN:VTIMEZONE
TZID:UTC
BEGIN:STANDARD
TZOFFSETFROM:+0000
TZOFFSETTO:+0000
TZNAME:UTC
DTSTART:20210101T000000
END:STANDARD
END:VTIMEZONE
BEGIN:VEVENT
DTSTART;TZID=UTC:20211003T000000
DTEND;TZID=UTC:20211003T000000
DTSTAMP:20260420T213352
CREATED:20211003T080447Z
LAST-MODIFIED:20211003T080550Z
UID:536-1633219200-1633219200@stadtkino-rheinfelden.de
SUMMARY:Film & GesprÃ¤ch: â€žWir sind jetzt hierâ€œ
DESCRIPTION:Film & GesprÃ¤ch: â€žWir sind jetzt hierâ€œ \nFilmregisseure zeigen Geschichten Ã¼ber das Ankommen in Deutschland \nAm So. 3. Oktober\, 17:00 Uhr\, zeigen die Filmschaffenden Ronja vom Wurmb-Seibel und Niklas Schenck ihren aktuellen Dokumentarfilm â€žWir sind jetzt hier. Geschichten Ã¼ber das Ankommen in Deutschlandâ€œ (Doku\, D 2020; 45min; FSK 0). \nOrt ist das kath. Pfarreizentrum St. Josef (groÃŸer Saal)\, Friedrichstr. 32\, Rheinfelden. \nBITTE BEACHTEN SIE: Anders als auf dem PlakatÂ geschrieben ist allerdings eineÂ vorherige Anmeldung nicht nÃ¶tig!Â Hygieneregeln: 3G\, Maske sowie 1\,5m Abstand als Empfehlung. Die Kontaktdaten mÃ¼ssen erhoben werden. \nWeitere Informationen in unserem Newsblog. \n  \n 
URL:https://stadtkino-rheinfelden.de/event/film-gespraech-wir-sind-jetzt-hier/
LOCATION:St. Josef Gemeinde\, Deutschland
ATTACH;FMTTYPE=image/png:https://stadtkino-rheinfelden.de/wp-content/uploads/2021/10/Filmtalk.png
END:VEVENT
BEGIN:VEVENT
DTSTART;TZID=UTC:20211011T193000
DTEND;TZID=UTC:20211029T121224
DTSTAMP:20260420T213352
CREATED:20211008T174905Z
LAST-MODIFIED:20211029T121224Z
UID:544-1633980600-1635509544@stadtkino-rheinfelden.de
SUMMARY:Film des Monats Oktober
DESCRIPTION:Culture-Clash-KomÃ¶die mit PrÃ¤dikat \nAm Mo. 11. Oktober\, 19:30 Uhr\, wird in Rheinfelden\, im Kath. Pfarreizentrum St. Josef (Friedrichstr. 32) als â€žFilm des Monats Oktober 2021â€œ eine besonders gelungene Culture-Clash-KomÃ¶die gezeigt. Nicht nur die KÃ¼che zweier Kulturen prallt aufeinander\, auch hervorragend besetzte Charaktere. Diese lassen die Zuschauer zu Augenzeugen kleiner wie groÃŸer Dramen eines Kulturkampfes werden. Dass dieser Ã¤uÃŸerst humorvoll dargestellt wird sorgt dafÃ¼r\, dass dieser sympathische Film um Fremdenfeindlichkeit und Traditionen so erstaunlich gut auf der Zunge zergeht. Der mit dem PrÃ¤dikat â€žbesonders wertvollâ€œ ausgezeichnete Streifen verspricht einen (im doppelten Sinne) kÃ¶stlichen interkulturellen Filmgenuss. Aus LizenzgrÃ¼nden darf hier der Titel nicht genannt werden. \nEintritt frei â€“ Spenden sind willkommen. \nDer Film lÃ¤uft als Kooperation von Kirchlicher Erwachsenenbildung Rheinfelden\, KommunitÃ¤t Beuggen\, Verein Stadtkino Rheinfelden\, VHS Rheinfelden sowie dem Kirchenbezirksbeauftragten fÃ¼r Flucht & Migration. \nInfos bei JÃ¶rg Hinderer\, Joerg.Hinderer@kbz.ekiba.de\, 0162-7243342.
URL:https://stadtkino-rheinfelden.de/event/fim-des-monats-oktober/
LOCATION:St. Josef Gemeinde\, Deutschland
CATEGORIES:Film des Monats
END:VEVENT
BEGIN:VEVENT
DTSTART;TZID=UTC:20211019T200000
DTEND;TZID=UTC:20211019T200000
DTSTAMP:20260420T213352
CREATED:20210730T185702Z
LAST-MODIFIED:20211008T174037Z
UID:380-1634673600-1634673600@stadtkino-rheinfelden.de
SUMMARY:UNSER FILM im Oktober
DESCRIPTION:UNSER FILM im Oktober: Ich bin dein Mensch (Deutschland 2021)
URL:https://stadtkino-rheinfelden.de/event/unser-film-im-oktober/
LOCATION:Kino Rheinflimmern\, Kirchplatz 1\, Rheinfelden\, 79618\, Deutschland
CATEGORIES:Unser Film
END:VEVENT
END:VCALENDAR