BEGIN:VCALENDAR
VERSION:2.0
PRODID:-//Stadtkino Rheinfelden - ECPv6.2.2.1//NONSGML v1.0//EN
CALSCALE:GREGORIAN
METHOD:PUBLISH
X-WR-CALNAME:Stadtkino Rheinfelden
X-ORIGINAL-URL:https://stadtkino-rheinfelden.de
X-WR-CALDESC:Veranstaltungen für Stadtkino Rheinfelden
REFRESH-INTERVAL;VALUE=DURATION:PT1H
X-Robots-Tag:noindex
X-PUBLISHED-TTL:PT1H
BEGIN:VTIMEZONE
TZID:UTC
BEGIN:STANDARD
TZOFFSETFROM:+0000
TZOFFSETTO:+0000
TZNAME:UTC
DTSTART:20220101T000000
END:STANDARD
END:VTIMEZONE
BEGIN:VEVENT
DTSTART;TZID=UTC:20220214T193000
DTEND;TZID=UTC:20220214T193000
DTSTAMP:20260420T163925
CREATED:20211029T121809Z
LAST-MODIFIED:20211029T121809Z
UID:568-1644867000-1644867000@stadtkino-rheinfelden.de
SUMMARY:Film des Monats Februar
DESCRIPTION:Der ganz große Traum &#8230;oder wie der Lehrer Konrad Koch den Fußball nach Deutschland brachte (D 2010\, 109min\, FSK 0) \nBiopic über den Englischlehrer\, der im Jahr 1874 den Fußball nach Deutschland brachte &#8211; um seine Schüler für die englische Sprache zu begeistern&#8230; Konrad Koch hat Erfolg\, wird aber zum Ärgernis der preußisch gesinnten Lehrerschaft und einflussreicher Eltern. Nun müssen die Schüler um Koch kämpfen\, wenn er weiterhin ihr Lehrer bleiben soll. \nOrt: Rheinfelden\, Pfarreizentrum St. Josef\, Friedrichstr. 32 \nAnmeldung entsprechend der geltenden Hygieneverordnung erforderlich über Pfarrbüro St. Josef: 07623-72490: pfarrbuero.rheinfelden@kath.rheinfelden.de \nAktuelle Infos dazu auf https://www.kath-rheinfelden.de/glaube-leben/erwachsenenbildung/ \nEintritt frei &#8211; Spenden willkommen
URL:https://stadtkino-rheinfelden.de/event/film-des-monats-februar/
CATEGORIES:Film des Monats
END:VEVENT
END:VCALENDAR