BEGIN:VCALENDAR
VERSION:2.0
PRODID:-//Stadtkino Rheinfelden - ECPv6.2.2.1//NONSGML v1.0//EN
CALSCALE:GREGORIAN
METHOD:PUBLISH
X-WR-CALNAME:Stadtkino Rheinfelden
X-ORIGINAL-URL:https://stadtkino-rheinfelden.de
X-WR-CALDESC:Veranstaltungen für Stadtkino Rheinfelden
REFRESH-INTERVAL;VALUE=DURATION:PT1H
X-Robots-Tag:noindex
X-PUBLISHED-TTL:PT1H
BEGIN:VTIMEZONE
TZID:UTC
BEGIN:STANDARD
TZOFFSETFROM:+0000
TZOFFSETTO:+0000
TZNAME:UTC
DTSTART:20210101T000000
END:STANDARD
END:VTIMEZONE
BEGIN:VEVENT
DTSTART;TZID=UTC:20211116T200000
DTEND;TZID=UTC:20211116T200000
DTSTAMP:20260420T213327
CREATED:20210730T190215Z
LAST-MODIFIED:20210730T190215Z
UID:382-1637092800-1637092800@stadtkino-rheinfelden.de
SUMMARY:UNSER FILM im November
DESCRIPTION:UNSER FILM im November: Der Rausch (Dänemark\, Schweden\, Niederlande 2020)
URL:https://stadtkino-rheinfelden.de/event/unser-film-im-november/
LOCATION:Kino Rheinflimmern\, Kirchplatz 1\, Rheinfelden\, 79618\, Deutschland
CATEGORIES:Unser Film
END:VEVENT
END:VCALENDAR