BEGIN:VCALENDAR
VERSION:2.0
PRODID:-//Stadtkino Rheinfelden - ECPv6.2.2.1//NONSGML v1.0//EN
CALSCALE:GREGORIAN
METHOD:PUBLISH
X-ORIGINAL-URL:https://stadtkino-rheinfelden.de
X-WR-CALDESC:Veranstaltungen für Stadtkino Rheinfelden
REFRESH-INTERVAL;VALUE=DURATION:PT1H
X-Robots-Tag:noindex
X-PUBLISHED-TTL:PT1H
BEGIN:VTIMEZONE
TZID:UTC
BEGIN:STANDARD
TZOFFSETFROM:+0000
TZOFFSETTO:+0000
TZNAME:UTC
DTSTART:20210101T000000
END:STANDARD
END:VTIMEZONE
BEGIN:VEVENT
DTSTART;TZID=UTC:20210921T200000
DTEND;TZID=UTC:20210921T200000
DTSTAMP:20260421T155444
CREATED:20210730T185318Z
LAST-MODIFIED:20211008T174048Z
UID:377-1632254400-1632254400@stadtkino-rheinfelden.de
SUMMARY:UNSER FILM im September
DESCRIPTION:UNSER FILM im September: The Father (Vereinigtes Königreich\, 2020)
URL:https://stadtkino-rheinfelden.de/event/unser-film-im-september/
LOCATION:Kino Rheinflimmern\, Kirchplatz 1\, Rheinfelden\, 79618\, Deutschland
CATEGORIES:Unser Film
END:VEVENT
END:VCALENDAR